BEGIN:VCALENDAR
VERSION:2.0
PRODID:-//wp-events-plugin.com//7.2.3.1//EN
TZID:Europe/Stockholm
X-WR-TIMEZONE:Europe/Stockholm
BEGIN:VEVENT
UID:77@sameforeningen-stockholm.se
DTSTART;TZID=Europe/Stockholm:20260516T150000
DTEND;TZID=Europe/Stockholm:20260516T160000
DTSTAMP:20260421T123743Z
URL:https://sameforeningen-stockholm.se/kalender/eatnama-jienat-jordens-ro
 ster/
SUMMARY:Eatnama jienat/Jordens röster
DESCRIPTION:Utställning\n\nEmma Göransson Almroth arbetar med utgångspun
 kt från den sjösamiska ranan\, en randad tuskaftsväv i ull producerad p
 å den uråldriga varptyngda vävstolen. Hon förändrar ranan\, men låte
 r de historiska rötterna vara kvar som tydliga textila minnen. Landskapet
  tar sig in i väven\; luft\, vatten och jord. Den öppnas så mot inre v
 ärldar och söker samtidigt framtida och okända uttryck. De vävda konst
 verken visas 16-31maj.\n\nPerformance\n\nVälkomna att bevittna urpremiär
 en för ett performativt allkonstverk där röster\, rörelse\, instrument
 almusik och textil samverkar med naturlandskapet. Hur låter Moder Jord oc
 h hur vill hon ljuda genom oss? Vi lyssnar in platsen\, dess växter\, tr
 äd\, fåglar och djur och varandra\; vindarna och rymden ovanför\; vattn
 et som omger oss\, och genomströmmar allt som lever. Vi lyssnar också ti
 ll stadens ljud som ligger där som en bakgrund just nu. Föreställningen
  är platsspecifik och improvisatorisk. Det performativa verket uppförs l
 ördagen 16 maj klockan 15.00 i naturlandskapet kring Slipvillan.\n\nMedve
 rkande Emma Göransson Almroth\, daiddar/duojar (konstnär/slöjdare på s
 amiska)\, jojkare. Nina Nordvall Vahlberg\, musiker\, jojkare.\, Linnéa S
 undling\, dansare\, koreograf\n\nProduktion: Aerpie\nHemsida: https://slip
 villan.org/hem/aerpie/
ATTACH;FMTTYPE=image/jpeg:https://sameforeningen-stockholm.se/wp-content/u
 ploads/2026/04/Eatnama-jienat-1-MB.jpeg
CATEGORIES:Kultur
LOCATION:Slipvillan / Aerpie\, Mälarvarvsbacken 32\, Stockholm\, Sverige
GEO:59.321142;18.038078
X-APPLE-STRUCTURED-LOCATION;VALUE=URI;X-ADDRESS=Mälarvarvsbacken 32\, Stoc
 kholm\, Sverige;X-APPLE-RADIUS=100;X-TITLE=Slipvillan / Aerpie:geo:59.3211
 42,18.038078
END:VEVENT
BEGIN:VTIMEZONE
TZID:Europe/Stockholm
X-LIC-LOCATION:Europe/Stockholm
BEGIN:DAYLIGHT
DTSTART:20260329T030000
TZOFFSETFROM:+0100
TZOFFSETTO:+0200
TZNAME:CEST
END:DAYLIGHT
END:VTIMEZONE
END:VCALENDAR