BEGIN:VCALENDAR
VERSION:2.0
PRODID:-//wp-events-plugin.com//7.2.3.1//EN
TZID:Europe/Stockholm
X-WR-TIMEZONE:Europe/Stockholm
BEGIN:VEVENT
UID:31@sameforeningen-stockholm.se
DTSTART;TZID=Europe/Stockholm;VALUE=DATE:20251023
DTEND;TZID=Europe/Stockholm;VALUE=DATE:20251027
DTSTAMP:20251008T120107Z
URL:https://sameforeningen-stockholm.se/kalender/jokkmokksdagarna-i-huddin
 ge-centrum/
SUMMARY:Jokkmokksdagarna i Huddinge Centrum
DESCRIPTION:23-26 oktober fylls Sjödalstorget i Huddinge Centrum återigen
  med långväga gäster! Då har du möjlighet att uppleva härliga smaker
 \, dofter och samisk kultur\, delta i flera spännande workshops\, lära d
 ig jojka och shoppa genuint hantverk.\nSnart är det dags för fyra dagar 
 med Jokkmokks marknad i miniformat på Sjödalstorget. Vi hoppas att du l
 ängtar efter att flanera runt på marknaden\, känna dofterna\, lyssna p
 å jojken\, provsmaka ostar eller andra delikatesser\, köpa med lite Jokk
 mokkskorv eller nygräddad gahkku. Det blir förstås en hel del vackra ha
 ntverk - smycken\, textilier och olika former av slöjdprodukter. Liksom t
 idigare kan du delta i olika spännande workshops på Folkes. Souvaskungen
  kommer med sin vagn så att du kan njuta av lite samiska burgare.  Nytt 
 för i år är aktiviteter för barn med Kristins kreativa verkstad.\n\nMa
 rknaden är öppen följande tider:\n\nTorsdag-fredag: 10-18\nLördag: 10-
 16\nSöndag: 11-15\nJokkmokksdagarna 2025 - program på Folkes\nTorsdag 23
  oktober\n11.00-18.00 Ateljé Midnattssol säljer kläder i foajén\n14.00
 -15.00 Workshop i jojk med Juhán Niila Stålka\n14.00-18.00 Barnaktivitet
 er i stora salen - Kristins kreativa verkstad\n\nFredag 24 oktober\n11.00-
 18.00 Ateljé Midnattssol säljer kläder i foajén\n11.00-13.00 Lär dig 
 vika vackra askar med Francina Dalmulder Larsson\n14.00-18.00 Barnaktivite
 ter i stora salen - Kristins kreativa verkstad\n\nLördag 25 oktober\n11.0
 0-16.00 Ateljé Midnattssol säljer kläder i foajén\n13.00-15.00 Worksho
 p i bandvävning med Juhan Niila Stålka\n11.00-15.00 Barnaktiviteter i st
 ora salen - Kristins kreativa verkstad\n\nLäs uppdaterat program på http
 s://www.huddingecentrum.se/jokkmokksdagarna/
ATTACH;FMTTYPE=image/jpeg:https://sameforeningen-stockholm.se/wp-content/u
 ploads/2025/10/Jokkmokksdagarna-2025.jpg
CATEGORIES:Hantverk,Kultur,Mat
LOCATION:Huddinge Centrum\, Huddinge centrum\, Stockholm\, Sverige
GEO:59.235829;17.981694
X-APPLE-STRUCTURED-LOCATION;VALUE=URI;X-ADDRESS=Huddinge centrum\, Stockhol
 m\, Sverige;X-APPLE-RADIUS=100;X-TITLE=Huddinge Centrum:geo:59.235829,17.9
 81694
END:VEVENT
BEGIN:VTIMEZONE
TZID:Europe/Stockholm
X-LIC-LOCATION:Europe/Stockholm
BEGIN:DAYLIGHT
DTSTART:20250330T030000
TZOFFSETFROM:+0100
TZOFFSETTO:+0200
TZNAME:CEST
END:DAYLIGHT
BEGIN:STANDARD
DTSTART:20251026T020000
TZOFFSETFROM:+0200
TZOFFSETTO:+0100
TZNAME:CET
END:STANDARD
END:VTIMEZONE
END:VCALENDAR