BEGIN:VCALENDAR
VERSION:2.0
PRODID:-//wp-events-plugin.com//7.2.3.1//EN
TZID:Europe/Stockholm
X-WR-TIMEZONE:Europe/Stockholm
BEGIN:VEVENT
UID:10@sameforeningen-stockholm.se
DTSTART;TZID=Europe/Stockholm:20250927T130000
DTEND;TZID=Europe/Stockholm:20250927T170000
DTSTAMP:20250919T140436Z
URL:https://sameforeningen-stockholm.se/kalender/slojdcafe/
SUMMARY:Slöjdcáfe
DESCRIPTION:Nu är det snart dags för andra slöjdcáfet för hösten. Ta 
 med ert nya\, ej färdiga eller gamla projekt så slöjdar vi tillsammans.
   Slöjdcaféet kommer att äga rum i sameföreningens lokaler på Solida
 ritetshuset\, Tegelviksgatan 40. Kerstin Berg är ansvarig på plats. \n\
 nSlöjdcafét är till för Sameföreningen i Stockholms medlemmar.
ATTACH;FMTTYPE=image/jpeg:https://sameforeningen-stockholm.se/wp-content/u
 ploads/2025/09/IMG_4683.jpeg
CATEGORIES:Hantverk
LOCATION:Sameföreningen i Stockholm\, Tegelviksgatan 40\, Stockholm\, Sver
 ige
GEO:59.309344;18.097269
X-APPLE-STRUCTURED-LOCATION;VALUE=URI;X-ADDRESS=Tegelviksgatan 40\, Stockho
 lm\, Sverige;X-APPLE-RADIUS=100;X-TITLE=Sameföreningen i Stockholm:geo:59
 .309344,18.097269
END:VEVENT
BEGIN:VTIMEZONE
TZID:Europe/Stockholm
X-LIC-LOCATION:Europe/Stockholm
BEGIN:DAYLIGHT
DTSTART:20250330T030000
TZOFFSETFROM:+0100
TZOFFSETTO:+0200
TZNAME:CEST
END:DAYLIGHT
END:VTIMEZONE
END:VCALENDAR